BEGIN:VCALENDAR
VERSION:2.0
PRODID:-//Fairbank Equipment - ECPv6.5.0.1//NONSGML v1.0//EN
CALSCALE:GREGORIAN
METHOD:PUBLISH
X-ORIGINAL-URL:https://staging-business.fairbankequipment.com
X-WR-CALDESC:Events for Fairbank Equipment
REFRESH-INTERVAL;VALUE=DURATION:PT1H
X-Robots-Tag:noindex
X-PUBLISHED-TTL:PT1H
BEGIN:VTIMEZONE
TZID:UTC
BEGIN:STANDARD
TZOFFSETFROM:+0000
TZOFFSETTO:+0000
TZNAME:UTC
DTSTART:20240101T000000
END:STANDARD
END:VTIMEZONE
BEGIN:VEVENT
DTSTART;VALUE=DATE:20240123
DTEND;VALUE=DATE:20240126
DTSTAMP:20260421T010434
CREATED:20240314T145221Z
LAST-MODIFIED:20240314T145221Z
UID:10000009-1705968000-1706227199@staging-business.fairbankequipment.com
SUMMARY:Colorado Farm Show
DESCRIPTION:
URL:https://staging-business.fairbankequipment.com/trade-shows/colorado-farm-show/
LOCATION:Greeley\, CO\, Greeley\, CO\, United States
END:VEVENT
END:VCALENDAR