BEGIN:VCALENDAR
VERSION:2.0
PRODID:-//Fairbank Equipment - ECPv6.5.0.1//NONSGML v1.0//EN
CALSCALE:GREGORIAN
METHOD:PUBLISH
X-ORIGINAL-URL:https://staging-business.fairbankequipment.com
X-WR-CALDESC:Events for Fairbank Equipment
REFRESH-INTERVAL;VALUE=DURATION:PT1H
X-Robots-Tag:noindex
X-PUBLISHED-TTL:PT1H
BEGIN:VTIMEZONE
TZID:UTC
BEGIN:STANDARD
TZOFFSETFROM:+0000
TZOFFSETTO:+0000
TZNAME:UTC
DTSTART:20240101T000000
END:STANDARD
END:VTIMEZONE
BEGIN:VEVENT
DTSTART;VALUE=DATE:20240730
DTEND;VALUE=DATE:20240801
DTSTAMP:20260420T234815
CREATED:20240314T151841Z
LAST-MODIFIED:20240314T151841Z
UID:10000021-1722297600-1722470399@staging-business.fairbankequipment.com
SUMMARY:Kansas Applicator Institute
DESCRIPTION:
URL:https://staging-business.fairbankequipment.com/trade-shows/kansas-applicator-institute/
LOCATION:Hutchinson\, KS\, Hutchinson\, United States
END:VEVENT
END:VCALENDAR