BEGIN:VCALENDAR
VERSION:2.0
PRODID:-//Fairbank Equipment - ECPv6.5.0.1//NONSGML v1.0//EN
CALSCALE:GREGORIAN
METHOD:PUBLISH
X-ORIGINAL-URL:https://staging-business.fairbankequipment.com
X-WR-CALDESC:Events for Fairbank Equipment
REFRESH-INTERVAL;VALUE=DURATION:PT1H
X-Robots-Tag:noindex
X-PUBLISHED-TTL:PT1H
BEGIN:VTIMEZONE
TZID:UTC
BEGIN:STANDARD
TZOFFSETFROM:+0000
TZOFFSETTO:+0000
TZNAME:UTC
DTSTART:20240101T000000
END:STANDARD
END:VTIMEZONE
BEGIN:VEVENT
DTSTART;VALUE=DATE:20240130
DTEND;VALUE=DATE:20240202
DTSTAMP:20260421T011049
CREATED:20240314T150548Z
LAST-MODIFIED:20240314T150548Z
UID:10000011-1706572800-1706831999@staging-business.fairbankequipment.com
SUMMARY:Iowa Ag Expo
DESCRIPTION:
URL:https://staging-business.fairbankequipment.com/trade-shows/iowa-ag-expo/
LOCATION:Johnston\, IA\, Johnston\, IA\, United States
END:VEVENT
END:VCALENDAR