BEGIN:VCALENDAR
VERSION:2.0
PRODID:-//Fairbank Equipment - ECPv6.5.0.1//NONSGML v1.0//EN
CALSCALE:GREGORIAN
METHOD:PUBLISH
X-WR-CALNAME:Fairbank Equipment
X-ORIGINAL-URL:https://staging-business.fairbankequipment.com
X-WR-CALDESC:Events for Fairbank Equipment
REFRESH-INTERVAL;VALUE=DURATION:PT1H
X-Robots-Tag:noindex
X-PUBLISHED-TTL:PT1H
BEGIN:VTIMEZONE
TZID:UTC
BEGIN:STANDARD
TZOFFSETFROM:+0000
TZOFFSETTO:+0000
TZNAME:UTC
DTSTART:20240101T000000
END:STANDARD
END:VTIMEZONE
BEGIN:VEVENT
DTSTART;VALUE=DATE:20240207
DTEND;VALUE=DATE:20240210
DTSTAMP:20260421T011425
CREATED:20240314T150720Z
LAST-MODIFIED:20240314T150720Z
UID:10000012-1707264000-1707523199@staging-business.fairbankequipment.com
SUMMARY:Southern Rocky Mountain Agricultural Conf
DESCRIPTION:
URL:https://staging-business.fairbankequipment.com/trade-shows/southern-rocky-mountain-agricultural-conf/
LOCATION:Monte Vista\, CO\, Monte Vista\, CO\, United States
END:VEVENT
END:VCALENDAR